BEGIN:VCALENDAR
VERSION:2.0
PRODID:-//time.you/holidays//NONSGML v1.0//EN
BEGIN:VEVENT
UID:5a8a5a7a-926e-4dc9-bbe2-b4604f8ec678
DTSTAMP:20260421T223851Z
DTSTART;VALUE=DATE:20340102
SUMMARY:New Year's Day Holiday (Marshall Islands)
END:VEVENT
END:VCALENDAR