BEGIN:VCALENDAR
VERSION:2.0
PRODID:-//time.you/holidays//NONSGML v1.0//EN
BEGIN:VEVENT
UID:75f77346-b5c7-4f94-a18e-930747048c33
DTSTAMP:20260419T234149Z
DTSTART;VALUE=DATE:20260101
SUMMARY:New Year's Day (Marshall Islands)
END:VEVENT
END:VCALENDAR