BEGIN:VCALENDAR
VERSION:2.0
PRODID:-//time.you/holidays//NONSGML v1.0//EN
BEGIN:VEVENT
UID:89aab247-5d15-48de-9986-6fb04f950e7b
DTSTAMP:20260422T053907Z
DTSTART;VALUE=DATE:20260302
SUMMARY:Nuclear Victims Remembrance Day Holiday (Marshall Islands)
END:VEVENT
END:VCALENDAR