BEGIN:VCALENDAR
VERSION:2.0
PRODID:-//time.you/holidays//NONSGML v1.0//EN
BEGIN:VEVENT
UID:f6c05d83-5326-4f62-a610-ef9d48822401
DTSTAMP:20260422T070946Z
DTSTART;VALUE=DATE:20301118
SUMMARY:President's Day Holiday (Marshall Islands)
END:VEVENT
END:VCALENDAR