BEGIN:VCALENDAR
VERSION:2.0
PRODID:-//time.you/holidays//NONSGML v1.0//EN
BEGIN:VEVENT
UID:e0d2b9f8-83eb-45f6-8830-72689fa2d7af
DTSTAMP:20260419T234150Z
DTSTART;VALUE=DATE:20261101
SUMMARY:All Saints' Day (Martinique)
END:VEVENT
END:VCALENDAR