BEGIN:VCALENDAR
VERSION:2.0
PRODID:-//time.you/holidays//NONSGML v1.0//EN
BEGIN:VEVENT
UID:2bcf8f57-a647-4631-8eb9-022158d29d50
DTSTAMP:20260421T155133Z
DTSTART;VALUE=DATE:20260101
SUMMARY:New Year's Day (Martinique)
END:VEVENT
END:VCALENDAR