BEGIN:VCALENDAR
VERSION:2.0
PRODID:-//time.you/holidays//NONSGML v1.0//EN
BEGIN:VEVENT
UID:1ea85a6d-47fc-44f2-b38a-afbe14933a66
DTSTAMP:20260423T145232Z
DTSTART;VALUE=DATE:20260721
SUMMARY:Victor Schoelcher Day (Martinique)
END:VEVENT
END:VCALENDAR