BEGIN:VCALENDAR
VERSION:2.0
PRODID:-//time.you/holidays//NONSGML v1.0//EN
BEGIN:VEVENT
UID:0162e897-28b5-457e-a1b0-8433602244c2
DTSTAMP:20260421T132843Z
DTSTART;VALUE=DATE:20260508
SUMMARY:Victory Day (Martinique)
END:VEVENT
END:VCALENDAR