BEGIN:VCALENDAR
VERSION:2.0
PRODID:-//time.you/holidays//NONSGML v1.0//EN
BEGIN:VEVENT
UID:832145f7-cc72-41a4-80a9-5c6a862dbfbe
DTSTAMP:20260421T164212Z
DTSTART;VALUE=DATE:20260525
SUMMARY:Whit Monday (Martinique)
END:VEVENT
END:VCALENDAR