BEGIN:VCALENDAR
VERSION:2.0
PRODID:-//time.you/holidays//NONSGML v1.0//EN
BEGIN:VEVENT
UID:0e0a7104-64e9-45de-a35b-fee32c138722
DTSTAMP:20260421T205433Z
DTSTART;VALUE=DATE:20260320
SUMMARY:Eid al-Fitr (estimated) (Mauritania)
END:VEVENT
END:VCALENDAR