BEGIN:VCALENDAR
VERSION:2.0
PRODID:-//time.you/holidays//NONSGML v1.0//EN
BEGIN:VEVENT
UID:93c02447-a4cc-45e2-a56e-d376104fab78
DTSTAMP:20260420T113720Z
DTSTART;VALUE=DATE:20261128
SUMMARY:Independence Day (Mauritania)
END:VEVENT
END:VCALENDAR