BEGIN:VCALENDAR
VERSION:2.0
PRODID:-//time.you/holidays//NONSGML v1.0//EN
BEGIN:VEVENT
UID:f633836c-069f-43cf-8a92-b82d9d5b3fbe
DTSTAMP:20260420T042910Z
DTSTART;VALUE=DATE:20260501
SUMMARY:Labor Day (Mauritania)
END:VEVENT
END:VCALENDAR