BEGIN:VCALENDAR
VERSION:2.0
PRODID:-//time.you/holidays//NONSGML v1.0//EN
BEGIN:VEVENT
UID:5db75ba1-99a4-445f-b22e-4402f981cf4b
DTSTAMP:20260420T071831Z
DTSTART;VALUE=DATE:20260825
SUMMARY:Mawlid al-Nabi (estimated) (Mauritania)
END:VEVENT
END:VCALENDAR