BEGIN:VCALENDAR
VERSION:2.0
PRODID:-//time.you/holidays//NONSGML v1.0//EN
BEGIN:VEVENT
UID:6a0aee40-7d9a-414d-a996-02496214b843
DTSTAMP:20260421T204724Z
DTSTART;VALUE=DATE:20260101
SUMMARY:New Year's Day (Mauritania)
END:VEVENT
END:VCALENDAR