BEGIN:VCALENDAR
VERSION:2.0
PRODID:-//time.you/holidays//NONSGML v1.0//EN
BEGIN:VEVENT
UID:64a2ea0e-2bf1-4f55-b5fb-57c13a8310b5
DTSTAMP:20260420T062547Z
DTSTART;VALUE=DATE:20260201
SUMMARY:Abolition of Slavery (Mauritius)
END:VEVENT
END:VCALENDAR