BEGIN:VCALENDAR
VERSION:2.0
PRODID:-//time.you/holidays//NONSGML v1.0//EN
BEGIN:VEVENT
UID:3046ed7a-d8ed-4524-adde-58d71ca89f18
DTSTAMP:20260420T084648Z
DTSTART;VALUE=DATE:20261102
SUMMARY:Arrival of Indentured Laborers (Mauritius)
END:VEVENT
END:VCALENDAR