BEGIN:VCALENDAR
VERSION:2.0
PRODID:-//time.you/holidays//NONSGML v1.0//EN
BEGIN:VEVENT
UID:d5e13732-0f86-4314-b0eb-40e124d6a49d
DTSTAMP:20260420T154251Z
DTSTART;VALUE=DATE:20250401
SUMMARY:Eid al-Fitr (Mauritius)
END:VEVENT
END:VCALENDAR