BEGIN:VCALENDAR
VERSION:2.0
PRODID:-//time.you/holidays//NONSGML v1.0//EN
BEGIN:VEVENT
UID:804b66fc-39de-470d-af6d-20a588343724
DTSTAMP:20260423T222647Z
DTSTART;VALUE=DATE:20260501
SUMMARY:Labor Day (Mauritius)
END:VEVENT
END:VCALENDAR