BEGIN:VCALENDAR
VERSION:2.0
PRODID:-//time.you/holidays//NONSGML v1.0//EN
BEGIN:VEVENT
UID:63adedba-cde0-4619-9a5a-08fab07cb061
DTSTAMP:20260423T133817Z
DTSTART;VALUE=DATE:20260304
SUMMARY:Thaipusam (Mauritius)
END:VEVENT
END:VCALENDAR