BEGIN:VCALENDAR
VERSION:2.0
PRODID:-//time.you/holidays//NONSGML v1.0//EN
BEGIN:VEVENT
UID:852c8e95-132b-4b33-9fa6-45960e58ab5d
DTSTAMP:20260420T181117Z
DTSTART;VALUE=DATE:20261101
SUMMARY:All Saints' Day (Mayotte)
END:VEVENT
END:VCALENDAR