BEGIN:VCALENDAR
VERSION:2.0
PRODID:-//time.you/holidays//NONSGML v1.0//EN
BEGIN:VEVENT
UID:3442fa64-45a8-49c0-b8cc-72255f1a6da7
DTSTAMP:20260420T033629Z
DTSTART;VALUE=DATE:20260514
SUMMARY:Ascension Day (Mayotte)
END:VEVENT
END:VCALENDAR