BEGIN:VCALENDAR
VERSION:2.0
PRODID:-//time.you/holidays//NONSGML v1.0//EN
BEGIN:VEVENT
UID:fbb9577c-a942-4042-becc-b9e487e01c32
DTSTAMP:20260423T172235Z
DTSTART;VALUE=DATE:20261225
SUMMARY:Christmas Day (Mayotte)
END:VEVENT
END:VCALENDAR