BEGIN:VCALENDAR
VERSION:2.0
PRODID:-//time.you/holidays//NONSGML v1.0//EN
BEGIN:VEVENT
UID:00fa4486-1bc1-407f-9d97-fc1e9fa456f4
DTSTAMP:20260420T201159Z
DTSTART;VALUE=DATE:20260501
SUMMARY:Labor Day (Mayotte)
END:VEVENT
END:VCALENDAR