BEGIN:VCALENDAR
VERSION:2.0
PRODID:-//time.you/holidays//NONSGML v1.0//EN
BEGIN:VEVENT
UID:3c30e6c2-d3ab-464f-8866-801fc9412f2c
DTSTAMP:20260421T180115Z
DTSTART;VALUE=DATE:20260101
SUMMARY:New Year's Day (Mexico)
END:VEVENT
END:VCALENDAR