BEGIN:VCALENDAR
VERSION:2.0
PRODID:-//time.you/holidays//NONSGML v1.0//EN
BEGIN:VEVENT
UID:21ec946f-b940-4d87-9a4b-b1a61475c11f
DTSTAMP:20260420T225829Z
DTSTART;VALUE=DATE:20261116
SUMMARY:Revolution Day (Mexico)
END:VEVENT
END:VCALENDAR