BEGIN:VCALENDAR
VERSION:2.0
PRODID:-//time.you/holidays//NONSGML v1.0//EN
BEGIN:VEVENT
UID:bbf3e7f6-3e78-465b-895b-037e0c04a479
DTSTAMP:20260422T033932Z
DTSTART;VALUE=DATE:20271224
SUMMARY:Christmas Day (observed) (Micronesia)
END:VEVENT
END:VCALENDAR