BEGIN:VCALENDAR
VERSION:2.0
PRODID:-//time.you/holidays//NONSGML v1.0//EN
BEGIN:VEVENT
UID:d8a1f25b-2026-4d4c-8677-31097ad7f097
DTSTAMP:20260421T205625Z
DTSTART;VALUE=DATE:20281225
SUMMARY:Christmas Day; Yap State Constitution Day (observed) (Micronesia)
END:VEVENT
END:VCALENDAR