BEGIN:VCALENDAR
VERSION:2.0
PRODID:-//time.you/holidays//NONSGML v1.0//EN
BEGIN:VEVENT
UID:0ae05eff-9609-4f0b-adc8-b02b097c4edb
DTSTAMP:20260421T130511Z
DTSTART;VALUE=DATE:20281002
SUMMARY:Chuuk State Constitution Day (observed) (Micronesia)
END:VEVENT
END:VCALENDAR