BEGIN:VCALENDAR
VERSION:2.0
PRODID:-//time.you/holidays//NONSGML v1.0//EN
BEGIN:VEVENT
UID:af67dfcd-43a0-4658-9b94-3d5ef98454d2
DTSTAMP:20260421T145453Z
DTSTART;VALUE=DATE:20261001
SUMMARY:Chuuk State Constitution Day (Micronesia)
END:VEVENT
END:VCALENDAR