BEGIN:VCALENDAR
VERSION:2.0
PRODID:-//time.you/holidays//NONSGML v1.0//EN
BEGIN:VEVENT
UID:2c61ebaf-e929-47fe-92b4-8bbe45043ba7
DTSTAMP:20260422T113914Z
DTSTART;VALUE=DATE:20260511
SUMMARY:Federated States of Micronesia Day (observed) (Micronesia)
END:VEVENT
END:VCALENDAR