BEGIN:VCALENDAR
VERSION:2.0
PRODID:-//time.you/holidays//NONSGML v1.0//EN
BEGIN:VEVENT
UID:819602da-3c60-4808-9259-fd1b73221505
DTSTAMP:20260419T150643Z
DTSTART;VALUE=DATE:20260510
SUMMARY:Federated States of Micronesia Day (Micronesia)
END:VEVENT
END:VCALENDAR