BEGIN:VCALENDAR
VERSION:2.0
PRODID:-//time.you/holidays//NONSGML v1.0//EN
BEGIN:VEVENT
UID:ad081444-7773-4b98-ba47-00b9e27e6ec0
DTSTAMP:20260421T204221Z
DTSTART;VALUE=DATE:20270820
SUMMARY:Gospel Day (observed) (Micronesia)
END:VEVENT
END:VCALENDAR