BEGIN:VCALENDAR
VERSION:2.0
PRODID:-//time.you/holidays//NONSGML v1.0//EN
BEGIN:VEVENT
UID:c2d5fc26-45e7-488f-9828-a56d9c50bfa4
DTSTAMP:20260423T222632Z
DTSTART;VALUE=DATE:20260821
SUMMARY:Gospel Day (Micronesia)
END:VEVENT
END:VCALENDAR