BEGIN:VCALENDAR
VERSION:2.0
PRODID:-//time.you/holidays//NONSGML v1.0//EN
BEGIN:VEVENT
UID:ce0ca19d-04aa-4d26-b893-012ef83dbf8a
DTSTAMP:20260421T205632Z
DTSTART;VALUE=DATE:20291102
SUMMARY:Independence Day (observed); Self Government Day (observed) (Micronesia)
END:VEVENT
END:VCALENDAR