BEGIN:VCALENDAR
VERSION:2.0
PRODID:-//time.you/holidays//NONSGML v1.0//EN
BEGIN:VEVENT
UID:fe63f6f3-c5cc-484e-8ad2-2f8086f673ad
DTSTAMP:20260424T030523Z
DTSTART;VALUE=DATE:20291102
SUMMARY:Independence Day (observed) (Micronesia)
END:VEVENT
END:VCALENDAR