BEGIN:VCALENDAR
VERSION:2.0
PRODID:-//time.you/holidays//NONSGML v1.0//EN
BEGIN:VEVENT
UID:0759ac71-5c5b-45a4-bc8c-15d31d825c03
DTSTAMP:20260421T053153Z
DTSTART;VALUE=DATE:20261203
SUMMARY:Kosrae Disability Day (Micronesia)
END:VEVENT
END:VCALENDAR