BEGIN:VCALENDAR
VERSION:2.0
PRODID:-//time.you/holidays//NONSGML v1.0//EN
BEGIN:VEVENT
UID:7ea327f9-436f-4693-b0ba-93bfc6de4972
DTSTAMP:20260422T033121Z
DTSTART;VALUE=DATE:20260908
SUMMARY:Kosrae Liberation Day (Micronesia)
END:VEVENT
END:VCALENDAR