BEGIN:VCALENDAR
VERSION:2.0
PRODID:-//time.you/holidays//NONSGML v1.0//EN
BEGIN:VEVENT
UID:39abf6c5-ea64-4ba6-989d-c3762689913d
DTSTAMP:20260421T223740Z
DTSTART;VALUE=DATE:20260112
SUMMARY:Kosrae State Constitution Day (observed) (Micronesia)
END:VEVENT
END:VCALENDAR