BEGIN:VCALENDAR
VERSION:2.0
PRODID:-//time.you/holidays//NONSGML v1.0//EN
BEGIN:VEVENT
UID:9dd162b4-e66b-4726-9a26-392f0a760607
DTSTAMP:20260421T050344Z
DTSTART;VALUE=DATE:20260911
SUMMARY:Liberation Day (Micronesia)
END:VEVENT
END:VCALENDAR