BEGIN:VCALENDAR
VERSION:2.0
PRODID:-//time.you/holidays//NONSGML v1.0//EN
BEGIN:VEVENT
UID:a7602561-9959-41e2-8a4b-dfae88f0a0e8
DTSTAMP:20260423T200952Z
DTSTART;VALUE=DATE:20260101
SUMMARY:New Year's Day (Micronesia)
END:VEVENT
END:VCALENDAR