BEGIN:VCALENDAR
VERSION:2.0
PRODID:-//time.you/holidays//NONSGML v1.0//EN
BEGIN:VEVENT
UID:739a0077-c78d-44dd-9768-6d2c72007359
DTSTAMP:20260421T022136Z
DTSTART;VALUE=DATE:20261108
SUMMARY:Pohnpei Constitution Day (Micronesia)
END:VEVENT
END:VCALENDAR