BEGIN:VCALENDAR
VERSION:2.0
PRODID:-//time.you/holidays//NONSGML v1.0//EN
BEGIN:VEVENT
UID:09178dec-4e5b-41ce-b3cc-467b833340f1
DTSTAMP:20260421T151252Z
DTSTART;VALUE=DATE:20301122
SUMMARY:Presidents Day (observed) (Micronesia)
END:VEVENT
END:VCALENDAR