BEGIN:VCALENDAR
VERSION:2.0
PRODID:-//time.you/holidays//NONSGML v1.0//EN
BEGIN:VEVENT
UID:ceab6c50-78ba-40d9-90f1-1b406d9a5080
DTSTAMP:20260420T013935Z
DTSTART;VALUE=DATE:20261123
SUMMARY:Presidents Day (Micronesia)
END:VEVENT
END:VCALENDAR