BEGIN:VCALENDAR
VERSION:2.0
PRODID:-//time.you/holidays//NONSGML v1.0//EN
BEGIN:VEVENT
UID:418e6d4f-a19d-460f-91b1-e246b19ed845
DTSTAMP:20260423T171535Z
DTSTART;VALUE=DATE:20260925
SUMMARY:State Charter Day (observed) (Micronesia)
END:VEVENT
END:VCALENDAR