BEGIN:VCALENDAR
VERSION:2.0
PRODID:-//time.you/holidays//NONSGML v1.0//EN
BEGIN:VEVENT
UID:0c750128-6c1c-478a-868a-eaca34cd1feb
DTSTAMP:20260420T190126Z
DTSTART;VALUE=DATE:20260926
SUMMARY:State Charter Day (Micronesia)
END:VEVENT
END:VCALENDAR