BEGIN:VCALENDAR
VERSION:2.0
PRODID:-//time.you/holidays//NONSGML v1.0//EN
BEGIN:VEVENT
UID:f21b127c-252a-4cc2-9374-364c3d682892
DTSTAMP:20260421T000430Z
DTSTART;VALUE=DATE:20261126
SUMMARY:Thanksgiving Day (Micronesia)
END:VEVENT
END:VCALENDAR