BEGIN:VCALENDAR
VERSION:2.0
PRODID:-//time.you/holidays//NONSGML v1.0//EN
BEGIN:VEVENT
UID:6e968b26-0bf6-43d5-ae5b-2979ea876170
DTSTAMP:20260421T230958Z
DTSTART;VALUE=DATE:20261024
SUMMARY:United Nations Day (Micronesia)
END:VEVENT
END:VCALENDAR