BEGIN:VCALENDAR
VERSION:2.0
PRODID:-//time.you/holidays//NONSGML v1.0//EN
BEGIN:VEVENT
UID:ce40d9ac-6b05-4d41-8582-6e497849b974
DTSTAMP:20260424T000959Z
DTSTART;VALUE=DATE:20260302
SUMMARY:Yap Day (observed) (Micronesia)
END:VEVENT
END:VCALENDAR