BEGIN:VCALENDAR
VERSION:2.0
PRODID:-//time.you/holidays//NONSGML v1.0//EN
BEGIN:VEVENT
UID:fe2483cc-5db2-4271-840f-455767ceeaea
DTSTAMP:20260420T231908Z
DTSTART;VALUE=DATE:20260301
SUMMARY:Yap Day (Micronesia)
END:VEVENT
END:VCALENDAR