BEGIN:VCALENDAR
VERSION:2.0
PRODID:-//time.you/holidays//NONSGML v1.0//EN
BEGIN:VEVENT
UID:2db08b69-8581-41e8-a660-6cfe749c5332
DTSTAMP:20260421T123448Z
DTSTART;VALUE=DATE:20331223
SUMMARY:Yap State Constitution Day (observed) (Micronesia)
END:VEVENT
END:VCALENDAR